BEGIN:VCALENDAR
VERSION:2.0
PRODID:-//Tukios.com/
BEGIN:VEVENT
UID:67844b80-3b05-4717-b8d5-086d9d4f5a0a@www.kiserfuneralhome.com
DTSTAMP:20260420T014450Z
DTSTART:20260421T180000Z
DTEND:20260421T190000Z
SUMMARY:Visitation
DESCRIPTION:
URL:https://www.kiserfuneralhome.com/obituaries/mack-atkinson-jr
LOCATION:Saint Matthew Catholic Community Church 1001 Mason Road  Durham 
	NC 27712
GEO:36.1253391;-78.9226363
END:VEVENT
END:VCALENDAR